BEGIN:VCALENDAR
VERSION:2.0
PRODID:-//wp-events-plugin.com//5.99912//EN
TZID:Europe/Berlin
X-WR-TIMEZONE:Europe/Berlin
BEGIN:VEVENT
UID:0-231@denkingen.albverein.eu
DTSTART;TZID=Europe/Berlin:20260501T000000
DTEND;TZID=Europe/Berlin:20260501T000000
DTSTAMP:20260421T070724Z
URL:https://denkingen.albverein.eu/events/auf-dem-mildersbachtal-rundweg/
SUMMARY:Auf dem Mildersbachtal-Rundweg
DESCRIPTION:Am 01.Mai unternehmen wir eine tolle Rundwanderung\, ausgehend 
 von Balingen-Ostdorf\, durch das romantische Mildersbachtal. Die Wanderung
  bietet uns einen schönen Panoramablick auf den Albtrauf. Vom Lemberg üb
 er den Plettenberg\, Lochen\, Hörnle und Hundsrück bis hin zur Burg Hohe
 nzollern liegt die gesamte Bergkette vor uns.  Die abwechslungsreiche Str
 ecke eignet sich besonders als tolles Wandererlebnis für die ganze Famili
 e.\n\nBitte merkt euch den Termin vor. Weitere Informationen erhaltet ihr 
 im nächsten Mitteilungsblatt.\n\nWanderführer: Edwin Dreher
END:VEVENT
BEGIN:VTIMEZONE
TZID:Europe/Berlin
X-LIC-LOCATION:Europe/Berlin
BEGIN:DAYLIGHT
DTSTART:20260329T030000
TZOFFSETFROM:+0100
TZOFFSETTO:+0200
TZNAME:CEST
END:DAYLIGHT
END:VTIMEZONE
END:VCALENDAR